BEGIN:VCALENDAR
VERSION:2.0
PRODID:-//Turn Purple 2 Blue - ECPv6.15.20//NONSGML v1.0//EN
CALSCALE:GREGORIAN
METHOD:PUBLISH
X-WR-CALNAME:Turn Purple 2 Blue
X-ORIGINAL-URL:https://turnpurple2blue.org
X-WR-CALDESC:Events for Turn Purple 2 Blue
REFRESH-INTERVAL;VALUE=DURATION:PT1H
X-Robots-Tag:noindex
X-PUBLISHED-TTL:PT1H
BEGIN:VTIMEZONE
TZID:America/New_York
BEGIN:DAYLIGHT
TZOFFSETFROM:-0500
TZOFFSETTO:-0400
TZNAME:EDT
DTSTART:20250309T070000
END:DAYLIGHT
BEGIN:STANDARD
TZOFFSETFROM:-0400
TZOFFSETTO:-0500
TZNAME:EST
DTSTART:20251102T060000
END:STANDARD
BEGIN:DAYLIGHT
TZOFFSETFROM:-0500
TZOFFSETTO:-0400
TZNAME:EDT
DTSTART:20260308T070000
END:DAYLIGHT
BEGIN:STANDARD
TZOFFSETFROM:-0400
TZOFFSETTO:-0500
TZNAME:EST
DTSTART:20261101T060000
END:STANDARD
BEGIN:DAYLIGHT
TZOFFSETFROM:-0500
TZOFFSETTO:-0400
TZNAME:EDT
DTSTART:20270314T070000
END:DAYLIGHT
BEGIN:STANDARD
TZOFFSETFROM:-0400
TZOFFSETTO:-0500
TZNAME:EST
DTSTART:20271107T060000
END:STANDARD
END:VTIMEZONE
BEGIN:VEVENT
DTSTART;TZID=America/New_York:20260416T180000
DTEND;TZID=America/New_York:20260416T210000
DTSTAMP:20260423T032001
CREATED:20260408T142329Z
LAST-MODIFIED:20260408T142334Z
UID:10004890-1776362400-1776373200@turnpurple2blue.org
SUMMARY:Indivisible Waltham Celebrates a Year of Local Activisism
DESCRIPTION:Indivisible Waltham has just completed our first year in existence. To continue to deepen our connections and lay the groundwork for building the local\, in-person\, neighbor-to-neighbor networks of support that we are likely to need in the coming months\, we are hosting a 1-year anniversary celebration on Thursday\, April 16\, at the Charles River Museum of Industry and Innovation. Space is limited\, so please RSVP here if you plan to attend\, as it will help us plan for appropriate amounts of food and beverages. \n\n\n\nWhat: Celebrate a year of Indivisible WalthamWhen: Thursday April 16\, 6-9pm (drop in when you can)Where: Charles River Museum of Industry & Innovation \n\n\n\nDetails: We’ll have food so you can have a quick snack or make a dinner of it\, with gluten-free\, dairy-free\, vegan and omnivore options. We’ll have music\, thanks to Sandra Waddock\, who has played music at one of our past standouts\, protest art\, thanks to Joshua Winer\, who has been creating large-scale protest artwork over the past year\, and we’ll have videography and photography from our rallies that document our first year of standing out in public together to raise the visibility of resistance action locally. \n\n\n\nPlease RSVP if you’ll attend\, and then just drop in whenever you can between 6 and 9pm on Thursday – we can’t wait to see you! And feel free to bring friends\, just include them in your RSVP so we can plan food and beverage supplies accordingly.
URL:https://turnpurple2blue.org/event/indivisible-waltham-celebrates-a-year-of-local-activisism/
LOCATION:Charles River Museum of Industry and Innovation\, 154 Moody St\, Waltham\, Massachusetts\, 02453
CATEGORIES:Action Hours
ATTACH;FMTTYPE=image/png:https://turnpurple2blue.org/wp-content/uploads/2026/02/Indivisible-waltham.png
END:VEVENT
END:VCALENDAR