BEGIN:VCALENDAR
VERSION:2.0
PRODID:-//Turn Purple 2 Blue - ECPv6.15.20//NONSGML v1.0//EN
CALSCALE:GREGORIAN
METHOD:PUBLISH
X-WR-CALNAME:Turn Purple 2 Blue
X-ORIGINAL-URL:https://turnpurple2blue.org
X-WR-CALDESC:Events for Turn Purple 2 Blue
REFRESH-INTERVAL;VALUE=DURATION:PT1H
X-Robots-Tag:noindex
X-PUBLISHED-TTL:PT1H
BEGIN:VTIMEZONE
TZID:America/New_York
BEGIN:DAYLIGHT
TZOFFSETFROM:-0500
TZOFFSETTO:-0400
TZNAME:EDT
DTSTART:20250309T070000
END:DAYLIGHT
BEGIN:STANDARD
TZOFFSETFROM:-0400
TZOFFSETTO:-0500
TZNAME:EST
DTSTART:20251102T060000
END:STANDARD
BEGIN:DAYLIGHT
TZOFFSETFROM:-0500
TZOFFSETTO:-0400
TZNAME:EDT
DTSTART:20260308T070000
END:DAYLIGHT
BEGIN:STANDARD
TZOFFSETFROM:-0400
TZOFFSETTO:-0500
TZNAME:EST
DTSTART:20261101T060000
END:STANDARD
BEGIN:DAYLIGHT
TZOFFSETFROM:-0500
TZOFFSETTO:-0400
TZNAME:EDT
DTSTART:20270314T070000
END:DAYLIGHT
BEGIN:STANDARD
TZOFFSETFROM:-0400
TZOFFSETTO:-0500
TZNAME:EST
DTSTART:20271107T060000
END:STANDARD
END:VTIMEZONE
BEGIN:VEVENT
DTSTART;TZID=America/New_York:20260501T163000
DTEND;TZID=America/New_York:20260501T183000
DTSTAMP:20260423T045244
CREATED:20260406T175946Z
LAST-MODIFIED:20260407T201841Z
UID:10004839-1777653000-1777660200@turnpurple2blue.org
SUMMARY:May Day - Western Mass
DESCRIPTION:Join the Western Mass Area Labor Federation\, MTA\, SNOL & more in a May Day March! \n\n\n\n📅Date: Friday\, May 1st \n\n\n\n🕛Time: 4:30 pm to 6:30 pm \n\n\n\n📌Location: Downtown Holyoke. Gather at Heritage State Park\, corner of Dwight & Heritage St. \n\n\n\n\nRSVP for updates\n\n\n\n\nOn May Day\, we will be marching in solidarity with Holyoke educators and with working people around the country. Help us build a powerful demonstration of the unity and power of the working class this May by co-sponsoring. Gather a contingent of your union or community organization members to participate! \n\n\n\nWhat is May Day? \n\n\n\n“May Day” or “International Workers Day\,” is observed on May 1st and commemorates the struggles and wins throughout the history of the labor movement across the country and internationally. It’s time for us to recognize that we are part of the same history and same struggle as the workers who fought for the right to organize on behalf of their communities. We need to take collective action on May 1st in solidarity with the working class around the country in order to protect our rights. \n\n\n\n— From May Day Strong: \n\n\n\nBecause when the billionaires break every rule\, it’s going to take more than a rally to stop them. \n\n\n\nOur Demands for May 1st – Tax the rich so our families\, not their fortunes\, come first. – No ICE. No war.. No private army serving unchecked federal power. – Expand democracy\, not corporate power. Hands off our vote.. \n\n\n\nTogether we will be flexing our collective muscle in a tremendous day of power – showing our unity through a day of marches\, rallies\, and actions including No Work No School No Shopping in many cities. \n\n\n\nJoin as as together we celebrate May 1st through action and community. \n\n\n\nPlease note: A core principle behind all our events is a commitment to nonviolent action. We expect all participants to seek to de-escalate any potential confrontation with those who disagree with our values and to act lawfully at these events. Weapons of any kind\, including those legally permitted\, should not be brought to events.
URL:https://turnpurple2blue.org/event/may-day-western-mass/
LOCATION:Heritage State Park\, Heritage and Dwight Streets\, Holyoke\, Massachusetts\, 01040\, United States
CATEGORIES:Protests
ATTACH;FMTTYPE=image/png:https://turnpurple2blue.org/wp-content/uploads/2026/04/may-day-boston.png
END:VEVENT
END:VCALENDAR