BEGIN:VCALENDAR
VERSION:2.0
PRODID:-//Turn Purple 2 Blue - ECPv6.15.20//NONSGML v1.0//EN
CALSCALE:GREGORIAN
METHOD:PUBLISH
X-WR-CALNAME:Turn Purple 2 Blue
X-ORIGINAL-URL:https://turnpurple2blue.org
X-WR-CALDESC:Events for Turn Purple 2 Blue
REFRESH-INTERVAL;VALUE=DURATION:PT1H
X-Robots-Tag:noindex
X-PUBLISHED-TTL:PT1H
BEGIN:VTIMEZONE
TZID:America/New_York
BEGIN:DAYLIGHT
TZOFFSETFROM:-0500
TZOFFSETTO:-0400
TZNAME:EDT
DTSTART:20250309T070000
END:DAYLIGHT
BEGIN:STANDARD
TZOFFSETFROM:-0400
TZOFFSETTO:-0500
TZNAME:EST
DTSTART:20251102T060000
END:STANDARD
BEGIN:DAYLIGHT
TZOFFSETFROM:-0500
TZOFFSETTO:-0400
TZNAME:EDT
DTSTART:20260308T070000
END:DAYLIGHT
BEGIN:STANDARD
TZOFFSETFROM:-0400
TZOFFSETTO:-0500
TZNAME:EST
DTSTART:20261101T060000
END:STANDARD
BEGIN:DAYLIGHT
TZOFFSETFROM:-0500
TZOFFSETTO:-0400
TZNAME:EDT
DTSTART:20270314T070000
END:DAYLIGHT
BEGIN:STANDARD
TZOFFSETFROM:-0400
TZOFFSETTO:-0500
TZNAME:EST
DTSTART:20271107T060000
END:STANDARD
END:VTIMEZONE
BEGIN:VEVENT
DTSTART;TZID=America/New_York:20260423T153000
DTEND;TZID=America/New_York:20260423T170000
DTSTAMP:20260423T045250
CREATED:20260419T202855Z
LAST-MODIFIED:20260419T202859Z
UID:10004974-1776958200-1776963600@turnpurple2blue.org
SUMMARY:Stand Up for Democracy with the Westminster DTC
DESCRIPTION:Join the Westminster Democratic Town Committee for our monthly peaceful honk-and-wave standout! Bring your joyful resistance energy\, make a sign\, support a candidate\, and speak your truth — everyone is welcome. \n\n\n\n\nRSVP for updates\n\n\n\n\n📅 Fourth Thursday of Each Month 🕙 3:30-5:00pm 📍E. Main & Bacon Streets\, Westminster Center \n\n\n\nApril 23 May 28 June 25 July 23 August 27 September 24 October 22 \n\n\n\nThis is a safe environment for all of our communities: Teachers\, Veterans\, Retirees. Moms\, Dads\, brothers\, sisters\, teens and children (our next generation of activists!). People of all colors\, race\, genders\, ethnicities\, abilities\, and disabilities. LGBTQIA+ … you name it YOU ARE WELCOME! \n\n\n\nAsk to subscribe to our mailing list for up-to-date info on each standout theme by submitting this form: https://forms.gle/dbCPmktsngpQ3akG9
URL:https://turnpurple2blue.org/event/stand-up-for-democracy-with-the-westminster-dtc/2026-04-23/
LOCATION:Westminster Center\, Bacon St and East Main St\, Westminster\, Massachusetts\, 01473
CATEGORIES:Protests
ATTACH;FMTTYPE=image/png:https://turnpurple2blue.org/wp-content/uploads/2026/04/westminster.png
END:VEVENT
BEGIN:VEVENT
DTSTART;TZID=America/New_York:20260528T153000
DTEND;TZID=America/New_York:20260528T170000
DTSTAMP:20260423T045250
CREATED:20260419T202855Z
LAST-MODIFIED:20260419T202859Z
UID:10004975-1779982200-1779987600@turnpurple2blue.org
SUMMARY:Stand Up for Democracy with the Westminster DTC
DESCRIPTION:Join the Westminster Democratic Town Committee for our monthly peaceful honk-and-wave standout! Bring your joyful resistance energy\, make a sign\, support a candidate\, and speak your truth — everyone is welcome. \n\n\n\n\nRSVP for updates\n\n\n\n\n📅 Fourth Thursday of Each Month 🕙 3:30-5:00pm 📍E. Main & Bacon Streets\, Westminster Center \n\n\n\nApril 23 May 28 June 25 July 23 August 27 September 24 October 22 \n\n\n\nThis is a safe environment for all of our communities: Teachers\, Veterans\, Retirees. Moms\, Dads\, brothers\, sisters\, teens and children (our next generation of activists!). People of all colors\, race\, genders\, ethnicities\, abilities\, and disabilities. LGBTQIA+ … you name it YOU ARE WELCOME! \n\n\n\nAsk to subscribe to our mailing list for up-to-date info on each standout theme by submitting this form: https://forms.gle/dbCPmktsngpQ3akG9
URL:https://turnpurple2blue.org/event/stand-up-for-democracy-with-the-westminster-dtc/2026-05-28/
LOCATION:Westminster Center\, Bacon St and East Main St\, Westminster\, Massachusetts\, 01473
CATEGORIES:Protests
ATTACH;FMTTYPE=image/png:https://turnpurple2blue.org/wp-content/uploads/2026/04/westminster.png
END:VEVENT
BEGIN:VEVENT
DTSTART;TZID=America/New_York:20260625T153000
DTEND;TZID=America/New_York:20260625T170000
DTSTAMP:20260423T045250
CREATED:20260419T202855Z
LAST-MODIFIED:20260419T202859Z
UID:10004976-1782401400-1782406800@turnpurple2blue.org
SUMMARY:Stand Up for Democracy with the Westminster DTC
DESCRIPTION:Join the Westminster Democratic Town Committee for our monthly peaceful honk-and-wave standout! Bring your joyful resistance energy\, make a sign\, support a candidate\, and speak your truth — everyone is welcome. \n\n\n\n\nRSVP for updates\n\n\n\n\n📅 Fourth Thursday of Each Month 🕙 3:30-5:00pm 📍E. Main & Bacon Streets\, Westminster Center \n\n\n\nApril 23 May 28 June 25 July 23 August 27 September 24 October 22 \n\n\n\nThis is a safe environment for all of our communities: Teachers\, Veterans\, Retirees. Moms\, Dads\, brothers\, sisters\, teens and children (our next generation of activists!). People of all colors\, race\, genders\, ethnicities\, abilities\, and disabilities. LGBTQIA+ … you name it YOU ARE WELCOME! \n\n\n\nAsk to subscribe to our mailing list for up-to-date info on each standout theme by submitting this form: https://forms.gle/dbCPmktsngpQ3akG9
URL:https://turnpurple2blue.org/event/stand-up-for-democracy-with-the-westminster-dtc/2026-06-25/
LOCATION:Westminster Center\, Bacon St and East Main St\, Westminster\, Massachusetts\, 01473
CATEGORIES:Protests
ATTACH;FMTTYPE=image/png:https://turnpurple2blue.org/wp-content/uploads/2026/04/westminster.png
END:VEVENT
BEGIN:VEVENT
DTSTART;TZID=America/New_York:20260723T153000
DTEND;TZID=America/New_York:20260723T170000
DTSTAMP:20260423T045250
CREATED:20260419T202855Z
LAST-MODIFIED:20260419T202859Z
UID:10004977-1784820600-1784826000@turnpurple2blue.org
SUMMARY:Stand Up for Democracy with the Westminster DTC
DESCRIPTION:Join the Westminster Democratic Town Committee for our monthly peaceful honk-and-wave standout! Bring your joyful resistance energy\, make a sign\, support a candidate\, and speak your truth — everyone is welcome. \n\n\n\n\nRSVP for updates\n\n\n\n\n📅 Fourth Thursday of Each Month 🕙 3:30-5:00pm 📍E. Main & Bacon Streets\, Westminster Center \n\n\n\nApril 23 May 28 June 25 July 23 August 27 September 24 October 22 \n\n\n\nThis is a safe environment for all of our communities: Teachers\, Veterans\, Retirees. Moms\, Dads\, brothers\, sisters\, teens and children (our next generation of activists!). People of all colors\, race\, genders\, ethnicities\, abilities\, and disabilities. LGBTQIA+ … you name it YOU ARE WELCOME! \n\n\n\nAsk to subscribe to our mailing list for up-to-date info on each standout theme by submitting this form: https://forms.gle/dbCPmktsngpQ3akG9
URL:https://turnpurple2blue.org/event/stand-up-for-democracy-with-the-westminster-dtc/2026-07-23/
LOCATION:Westminster Center\, Bacon St and East Main St\, Westminster\, Massachusetts\, 01473
CATEGORIES:Protests
ATTACH;FMTTYPE=image/png:https://turnpurple2blue.org/wp-content/uploads/2026/04/westminster.png
END:VEVENT
BEGIN:VEVENT
DTSTART;TZID=America/New_York:20260827T153000
DTEND;TZID=America/New_York:20260827T170000
DTSTAMP:20260423T045250
CREATED:20260419T202855Z
LAST-MODIFIED:20260419T202859Z
UID:10004978-1787844600-1787850000@turnpurple2blue.org
SUMMARY:Stand Up for Democracy with the Westminster DTC
DESCRIPTION:Join the Westminster Democratic Town Committee for our monthly peaceful honk-and-wave standout! Bring your joyful resistance energy\, make a sign\, support a candidate\, and speak your truth — everyone is welcome. \n\n\n\n\nRSVP for updates\n\n\n\n\n📅 Fourth Thursday of Each Month 🕙 3:30-5:00pm 📍E. Main & Bacon Streets\, Westminster Center \n\n\n\nApril 23 May 28 June 25 July 23 August 27 September 24 October 22 \n\n\n\nThis is a safe environment for all of our communities: Teachers\, Veterans\, Retirees. Moms\, Dads\, brothers\, sisters\, teens and children (our next generation of activists!). People of all colors\, race\, genders\, ethnicities\, abilities\, and disabilities. LGBTQIA+ … you name it YOU ARE WELCOME! \n\n\n\nAsk to subscribe to our mailing list for up-to-date info on each standout theme by submitting this form: https://forms.gle/dbCPmktsngpQ3akG9
URL:https://turnpurple2blue.org/event/stand-up-for-democracy-with-the-westminster-dtc/2026-08-27/
LOCATION:Westminster Center\, Bacon St and East Main St\, Westminster\, Massachusetts\, 01473
CATEGORIES:Protests
ATTACH;FMTTYPE=image/png:https://turnpurple2blue.org/wp-content/uploads/2026/04/westminster.png
END:VEVENT
BEGIN:VEVENT
DTSTART;TZID=America/New_York:20260924T153000
DTEND;TZID=America/New_York:20260924T170000
DTSTAMP:20260423T045250
CREATED:20260419T202855Z
LAST-MODIFIED:20260419T202859Z
UID:10004979-1790263800-1790269200@turnpurple2blue.org
SUMMARY:Stand Up for Democracy with the Westminster DTC
DESCRIPTION:Join the Westminster Democratic Town Committee for our monthly peaceful honk-and-wave standout! Bring your joyful resistance energy\, make a sign\, support a candidate\, and speak your truth — everyone is welcome. \n\n\n\n\nRSVP for updates\n\n\n\n\n📅 Fourth Thursday of Each Month 🕙 3:30-5:00pm 📍E. Main & Bacon Streets\, Westminster Center \n\n\n\nApril 23 May 28 June 25 July 23 August 27 September 24 October 22 \n\n\n\nThis is a safe environment for all of our communities: Teachers\, Veterans\, Retirees. Moms\, Dads\, brothers\, sisters\, teens and children (our next generation of activists!). People of all colors\, race\, genders\, ethnicities\, abilities\, and disabilities. LGBTQIA+ … you name it YOU ARE WELCOME! \n\n\n\nAsk to subscribe to our mailing list for up-to-date info on each standout theme by submitting this form: https://forms.gle/dbCPmktsngpQ3akG9
URL:https://turnpurple2blue.org/event/stand-up-for-democracy-with-the-westminster-dtc/2026-09-24/
LOCATION:Westminster Center\, Bacon St and East Main St\, Westminster\, Massachusetts\, 01473
CATEGORIES:Protests
ATTACH;FMTTYPE=image/png:https://turnpurple2blue.org/wp-content/uploads/2026/04/westminster.png
END:VEVENT
BEGIN:VEVENT
DTSTART;TZID=America/New_York:20261022T153000
DTEND;TZID=America/New_York:20261022T170000
DTSTAMP:20260423T045250
CREATED:20260419T202855Z
LAST-MODIFIED:20260419T202859Z
UID:10004980-1792683000-1792688400@turnpurple2blue.org
SUMMARY:Stand Up for Democracy with the Westminster DTC
DESCRIPTION:Join the Westminster Democratic Town Committee for our monthly peaceful honk-and-wave standout! Bring your joyful resistance energy\, make a sign\, support a candidate\, and speak your truth — everyone is welcome. \n\n\n\n\nRSVP for updates\n\n\n\n\n📅 Fourth Thursday of Each Month 🕙 3:30-5:00pm 📍E. Main & Bacon Streets\, Westminster Center \n\n\n\nApril 23 May 28 June 25 July 23 August 27 September 24 October 22 \n\n\n\nThis is a safe environment for all of our communities: Teachers\, Veterans\, Retirees. Moms\, Dads\, brothers\, sisters\, teens and children (our next generation of activists!). People of all colors\, race\, genders\, ethnicities\, abilities\, and disabilities. LGBTQIA+ … you name it YOU ARE WELCOME! \n\n\n\nAsk to subscribe to our mailing list for up-to-date info on each standout theme by submitting this form: https://forms.gle/dbCPmktsngpQ3akG9
URL:https://turnpurple2blue.org/event/stand-up-for-democracy-with-the-westminster-dtc/2026-10-22/
LOCATION:Westminster Center\, Bacon St and East Main St\, Westminster\, Massachusetts\, 01473
CATEGORIES:Protests
ATTACH;FMTTYPE=image/png:https://turnpurple2blue.org/wp-content/uploads/2026/04/westminster.png
END:VEVENT
END:VCALENDAR